BEGIN:VCALENDAR
VERSION:2.0
PRODID:-//Hotel Cafe - ECPv6.15.15//NONSGML v1.0//EN
CALSCALE:GREGORIAN
METHOD:PUBLISH
X-WR-CALNAME:Hotel Cafe
X-ORIGINAL-URL:https://new.hotelcafe.com
X-WR-CALDESC:Events for Hotel Cafe
REFRESH-INTERVAL;VALUE=DURATION:PT1H
X-Robots-Tag:noindex
X-PUBLISHED-TTL:PT1H
BEGIN:VTIMEZONE
TZID:America/Los_Angeles
BEGIN:DAYLIGHT
TZOFFSETFROM:-0800
TZOFFSETTO:-0700
TZNAME:PDT
DTSTART:20250309T100000
END:DAYLIGHT
BEGIN:STANDARD
TZOFFSETFROM:-0700
TZOFFSETTO:-0800
TZNAME:PST
DTSTART:20251102T090000
END:STANDARD
BEGIN:DAYLIGHT
TZOFFSETFROM:-0800
TZOFFSETTO:-0700
TZNAME:PDT
DTSTART:20260308T100000
END:DAYLIGHT
BEGIN:STANDARD
TZOFFSETFROM:-0700
TZOFFSETTO:-0800
TZNAME:PST
DTSTART:20261101T090000
END:STANDARD
BEGIN:DAYLIGHT
TZOFFSETFROM:-0800
TZOFFSETTO:-0700
TZNAME:PDT
DTSTART:20270314T100000
END:DAYLIGHT
BEGIN:STANDARD
TZOFFSETFROM:-0700
TZOFFSETTO:-0800
TZNAME:PST
DTSTART:20271107T090000
END:STANDARD
END:VTIMEZONE
BEGIN:VEVENT
DTSTART;TZID=America/Los_Angeles:20260125T190000
DTEND;TZID=America/Los_Angeles:20260125T203000
DTSTAMP:20260423T032404
CREATED:20251227T212329Z
LAST-MODIFIED:20260106T002950Z
UID:10006568-1769367600-1769373000@new.hotelcafe.com
SUMMARY:Leah Ashton
DESCRIPTION:Leah Ashton is a Los Angeles-based artist\, with Midwestern roots\, whose style and sound is grounded in the combined traditions of soul\, jazz\, and the 60s/70s era singer-songwriter. Influenced by the likes of Sara Bareilles\, Lake Street Dive\, Jamie Cullum\, Carole King\, and Bill Withers\, Leah’s music draws listeners in with her powerfully soulful voice that tells stories of self-discovery\, empowerment\, and chasing after one’s dreams. \nLeah’s most recent releases include a Concept EP for the work-in-progress musical\, Two Crowns (Sept 2025)\, a melancholic holiday EP\, sad girl silver bells (Nov of 2024)\, and her debut full-length album\, Late Bloomer (Sept 2022). Late Bloomer marked a return to Leah’s pursuit of her own artist project after spending more than a decade working behind the scenes in Los Angeles as a contracted vocalist supporting artists like Andy Grammer\, Michael Bolton\, Matoma\, Katori Walker\, and JMSN\, and performing on stages like the Hollywood Bowl\, The Dolby Theater\, The Ford Amphitheater\, and the Cannes Film Festival\, and appearing on TV shows like Jimmy Kimmel Live!\, House of Lies\, and Good Day LA. \nYou can find Leah performing music from all of these projects around the greater Los Angeles area \n 
URL:https://new.hotelcafe.com/event/leah-ashton/
LOCATION:Hotel Cafe\, 1623 N Cahuenga Blvd\, Los Angeles\, 90028\, United States
CATEGORIES:Just Announced,Main Stage
ATTACH;FMTTYPE=image/jpeg:https://new.hotelcafe.com/wp-content/uploads/2025/12/Leah-Ashton.jpg
END:VEVENT
BEGIN:VEVENT
DTSTART;TZID=America/Los_Angeles:20260124T220000
DTEND;TZID=America/Los_Angeles:20260124T233000
DTSTAMP:20260423T032404
CREATED:20260111T224103Z
LAST-MODIFIED:20260111T235254Z
UID:10006592-1769292000-1769297400@new.hotelcafe.com
SUMMARY:Icarus V
DESCRIPTION:Icarus V is the Pop/Soul alter-ego of Alabama born actor/singer Brandon Scott (Dead to Me\, 13 Reasons Why\, This is Us). Scott produces music with producing partners Merrick Woodard and Steven Roy. Channelling an amalgamation of Pop\, Experimental Soul\, R&B\, and Indie influences\, they aim to create soundscapes that feel reminiscently familiar\, yet unique at the same time. \nThe live band includes Merrick Woodard on guitar\, Steven Roy on Bass\, Jason Moore on Drums\, and Ripley on Keys. \nIcarus V is releasing a new tune each month of 2026. Follow along on Spotify and Socials. \n 
URL:https://new.hotelcafe.com/event/icarus-v/
LOCATION:Hotel Cafe\, 1623 N Cahuenga Blvd\, Los Angeles\, 90028\, United States
CATEGORIES:Just Announced,Second Stage
ATTACH;FMTTYPE=image/png:https://new.hotelcafe.com/wp-content/uploads/2026/01/LockdownArtwork2.png
END:VEVENT
BEGIN:VEVENT
DTSTART;TZID=America/Los_Angeles:20260124T213000
DTEND;TZID=America/Los_Angeles:20260124T233000
DTSTAMP:20260423T032404
CREATED:20251216T200356Z
LAST-MODIFIED:20251216T200356Z
UID:10006561-1769290200-1769297400@new.hotelcafe.com
SUMMARY:Pack of Larks
DESCRIPTION:Pack of Larks is a rock trio from Philadelphia made up of decorated singersongwriter Jeff Campbell\, Virtuoso guitarist Adam Staszewski (Desoto Jones/Kiska) and Buddy Mazzenga (Velvet Rouge/Gina Zo). Expect an 8 song set of riff driven\, melodic rock with well-thought-out rhythmic patterns and soaring vocal melodies.
URL:https://new.hotelcafe.com/event/pack-of-larks/
LOCATION:Hotel Cafe\, 1623 N Cahuenga Blvd\, Los Angeles\, 90028\, United States
CATEGORIES:Just Announced,Main Stage
ATTACH;FMTTYPE=image/png:https://new.hotelcafe.com/wp-content/uploads/2025/12/larks.png
END:VEVENT
BEGIN:VEVENT
DTSTART;TZID=America/Los_Angeles:20260124T210000
DTEND;TZID=America/Los_Angeles:20260124T223000
DTSTAMP:20260423T032404
CREATED:20251216T200721Z
LAST-MODIFIED:20251216T200721Z
UID:10006562-1769288400-1769293800@new.hotelcafe.com
SUMMARY:Jesse Macht
DESCRIPTION:Jesse Macht is a Los Angeles–based singer-songwriter working in the space between modern Americana and late-night folk. His songs are stripped\, observational\, and emotionally charged — carried by a warm\, weathered vocal and a restrained sense of momentum. Drawing comparisons to early Ryan Adams\, Jason Isbell\, and the quieter corners of Springsteen\, Jesse’s live sets favor intimacy over polish\, creating a focused\, after-hours energy that lingers well past the last note.
URL:https://new.hotelcafe.com/event/jesse-macht/
LOCATION:Hotel Cafe\, 1623 N Cahuenga Blvd\, Los Angeles\, 90028\, United States
CATEGORIES:Just Announced,Second Stage
ATTACH;FMTTYPE=image/png:https://new.hotelcafe.com/wp-content/uploads/2025/12/Screen-Shot-2016-10-05-at-11.41.43-AM.png
END:VEVENT
BEGIN:VEVENT
DTSTART;TZID=America/Los_Angeles:20260124T200000
DTEND;TZID=America/Los_Angeles:20260124T213000
DTSTAMP:20260423T032404
CREATED:20251227T212015Z
LAST-MODIFIED:20251227T212015Z
UID:10006567-1769284800-1769290200@new.hotelcafe.com
SUMMARY:Lex Bauman
DESCRIPTION:Where vintage cool meets modern power pop; a hook-laden\, energy-driven\, unapologetically fun sound emerges. \nLex first picked up a guitar at an influential young age\, and never put it down. By 10 years old\, he was already performing live with professional bands\, honing a stage presence that stylistically defines him today. When the world paused in 2020\, Lex leaned in harder than ever; teaching himself to write\, record\, and produce – all the while sharpening his artistry for the next chapter. \nEmerging with a drive to deliver; Lex wasted no time stepping into headline shows\, opening for national acts\, and building a reputation as a dynamic live performer who consistently connects with the audience. \nLex teamed up with Tuk Smith to co-write and produce his most ambitious project yet. The result: a bold explosion of power pop—anthemic hooks\, massive harmonies\, and lyrics that stay with you past the fade. In the spirit of Cheap Trick\, the edge of Avril Lavigne\, and the ambition of a rock & roll Taylor Swift – 2025 sees Lex rolling out his most exciting music to date. \nWith new singles and videos on the way\, his team is building high-energy live shows and expanding into fresh opportunities. \nLex Bauman is on a mission: to bring the fun\, the heart\, and the power of influence to as many ears and stages as possible.
URL:https://new.hotelcafe.com/event/lex-bauman/
LOCATION:Hotel Cafe\, 1623 N Cahuenga Blvd\, Los Angeles\, 90028\, United States
CATEGORIES:Just Announced,Second Stage
ATTACH;FMTTYPE=image/jpeg:https://new.hotelcafe.com/wp-content/uploads/2025/12/LexBauman3-1.jpg
END:VEVENT
BEGIN:VEVENT
DTSTART;TZID=America/Los_Angeles:20260124T190000
DTEND;TZID=America/Los_Angeles:20260124T220000
DTSTAMP:20260423T032404
CREATED:20251210T195746Z
LAST-MODIFIED:20251210T195746Z
UID:10006557-1769281200-1769292000@new.hotelcafe.com
SUMMARY:Geanies
DESCRIPTION:Geanies\, an electrifying\, blues-influenced indie rock band from Venice\, California\, is fronted by lead guitarist\, singer/composer Sean Michael Howe. Howe started the group in the spring of 2023\, and is joined by Sage Vercos on bass\, Manuel Martinez on guitar\, and Max Bleefeld on drums. Howe has been in many different groups during his career\, however\, Geanies is the first in which he is fronting the band. Some of the group’s influences are Jimi Hendrix\, The Beatles\, Led Zeppelin\, The Beach Boys\, Foo Fighters\, and many others. Geanies aspires to push rock music forward by bringing a fresh\, new sound to the genre. \nWEBSITE      LINKTREE
URL:https://new.hotelcafe.com/event/geanies/
LOCATION:Hotel Cafe\, 1623 N Cahuenga Blvd\, Los Angeles\, 90028\, United States
CATEGORIES:Just Announced,Second Stage
ATTACH;FMTTYPE=image/jpeg:https://new.hotelcafe.com/wp-content/uploads/2025/12/IMG_9280.jpg
END:VEVENT
BEGIN:VEVENT
DTSTART;TZID=America/Los_Angeles:20260124T190000
DTEND;TZID=America/Los_Angeles:20260124T213000
DTSTAMP:20260423T032404
CREATED:20251110T223013Z
LAST-MODIFIED:20251114T221158Z
UID:10006506-1769281200-1769290200@new.hotelcafe.com
SUMMARY:Fatai
DESCRIPTION:The W.O.M.A.N Album Tour \nAn evening of soul\, strength\, and stories that will stay with you long after the last note fades. After a long awaited return\, Fatai is heading back to North America in January 2026 for a very special run of shows celebrating her forthcoming album\, a powerful collection of songs that delve into strength & honesty. \nHaving last toured the USA before the pandemic\, this tour carries a deep sense of reunion and renewal\, both for Fatai and music lovers who have been wait ing years to experience her breathtaking live performance once again. Known for her soaring vocals\, heartfelt storytelling\, and intimate connection with audiences\, Fatai’s tour will be filled with lots of new music\, performed by a trio of insanely talented musicians.
URL:https://new.hotelcafe.com/event/fatai/
LOCATION:Hotel Cafe\, 1623 N Cahuenga Blvd\, Los Angeles\, 90028\, United States
CATEGORIES:Just Announced,Main Stage
ATTACH;FMTTYPE=image/jpeg:https://new.hotelcafe.com/wp-content/uploads/2025/11/0E9A2745.jpg
END:VEVENT
BEGIN:VEVENT
DTSTART;TZID=America/Los_Angeles:20260123T220000
DTEND;TZID=America/Los_Angeles:20260123T233000
DTSTAMP:20260423T032404
CREATED:20260111T223258Z
LAST-MODIFIED:20260111T223258Z
UID:10006591-1769205600-1769211000@new.hotelcafe.com
SUMMARY:Carter Vogel
DESCRIPTION:A Baltimore native now based in Los Angeles\, Carter Vogel’s musical journey began at a young age. Inspired by Stevie Wonder’s complex harmonies and the infectious pop R&B hooks of legends like John Legend and Alicia Keys\, Vogel crafts an alternative pop sound shaped by a foundation in jazz and blues. His first single\, “Pull Me Close\,” garnered notable attention and ushered in a period of creative experimentation. After releasing his EP\, Things I Can’t Get Back (2020)\, Vogel stepped back from solo releases to focus on live performance\, session work\, and further professional development. As an experienced pianist\, he has performed across the United States and toured the UK\, playing multiple shows as part of a band opening for Scouting for Girls. In 2023\, he graduated from Berklee College of music and since relocating to Los Angeles in May 2024\, he has continued to build his career through programs such as LAAMP\, industry work supporting indie artists\, and performances at iconic venues\, including The Troubadour\, The Mint\, and Harvard & Stone\, as well as stages in New York. \nCarter.Vogel on IG&TT
URL:https://new.hotelcafe.com/event/carter-vogel/
LOCATION:Hotel Cafe\, 1623 N Cahuenga Blvd\, Los Angeles\, 90028\, United States
CATEGORIES:Just Announced,Main Stage
ATTACH;FMTTYPE=image/jpeg:https://new.hotelcafe.com/wp-content/uploads/2026/01/Photo-Dec-09-2025-2-14-31-PM.jpg
END:VEVENT
BEGIN:VEVENT
DTSTART;TZID=America/Los_Angeles:20260123T190000
DTEND;TZID=America/Los_Angeles:20260123T230000
DTSTAMP:20260423T032404
CREATED:20260113T194236Z
LAST-MODIFIED:20260118T200236Z
UID:10006596-1769194800-1769209200@new.hotelcafe.com
SUMMARY:DORTI Presents: The Vincenzos\, Beau LePaige\, SPkEAZY & The Sweeps
DESCRIPTION:Founded in Culver City in late 2023\, The Vincenzos are a high-flyin 6 piece rock and roll band with influences ranging from The Rolling Stones to Springsteen to The Replacements. The catchy melodies and tight vocal harmonies will have you singing/clapping along and the storytelling & banter by singer/songwriter Vincent Brue will leave you laughing and/or crying (sometimes both). After releasing their debut album “To Live and Chenz in LA” this past May\, The Vincenzos have played all over LA (headlining the legendary Viper Room twice) and are currently planning a tour in Spring 2026 to coincide with the release of their sophomore album which they recently recorded at Gatos Trail Studios in Joshua Tree. Catch em while you can! \nInstagram \n \n  \n  \n  \n  \n \nBeau LePaige has shared stages with industry giants like The Revivalists\, Spin Doctors\, Elle King\, Collective Soul\, Live\, Big Brother and the Holding Company\, The Mowglis\, Go Radio\, and Echosmith. He’s headlined iconic venues like Whisky a Go-Go and The Roxy in Los Angeles\, commanded major festival stages including Oregon Country Fair\, Salmonfest (Alaska)\, Fort Worth Music Festival\, and San Diego County Fair\, and rocked House of Blues locations from Hollywood to Chicago. A Vans Warped Tour veteran (2012–2014)\, Beau has also ignited college campuses across Southern California\, proving his wide-reaching draw. Blending pop\, rock\, and everything in between\, Beau’s music is a vibrant mix of heartfelt ballads and electrifying anthems. His latest album\, Witching Hour\, skyrocketed to over 25\,000 streams in its first month\, with fans captivated by his emotive lyrics\, soaring choruses\, and magnetic vocals. Beau’s songs strike a chord\, delivering raw emotion with his signature spark. \nLINKS \n \n  \n  \n  \n  \n  \n\nSPkEAZY is an LA-based band that takes their musical influence from various genres including traditional ska\, reggae\, punk\, soul\, cumbia and more. It’s the kind of musical fusion that could only be born in Los Angeles\, but takes root wherever it goes. This band makes music to move to\, and along with getting people dancing\, they hope to activate minds and promote movement advancing the crucial social & human rights issues of our time.\nINSTAGRAM \n  \n  \n  \n  \n  \n \nThe Sweeps are an indie rock band with a fast-growing cult following across Los Angeles and Santa Barbara. Drawing influence from Peach Pit and Backseat Lovers\, their sound blends nostalgic melodies with modern indie energy. Their latest release\, Pictures\, is quickly becoming a fan favorite.\nINSTAGRAM
URL:https://new.hotelcafe.com/event/dorti/
LOCATION:Hotel Cafe\, 1623 N Cahuenga Blvd\, Los Angeles\, 90028\, United States
CATEGORIES:Just Announced,Main Stage
ATTACH;FMTTYPE=image/png:https://new.hotelcafe.com/wp-content/uploads/2026/01/ditto.png
END:VEVENT
BEGIN:VEVENT
DTSTART;TZID=America/Los_Angeles:20260123T190000
DTEND;TZID=America/Los_Angeles:20260123T223000
DTSTAMP:20260423T032404
CREATED:20260112T071618Z
LAST-MODIFIED:20260112T071618Z
UID:10006593-1769194800-1769207400@new.hotelcafe.com
SUMMARY:“One Last Song” Hotel Cafe Farewell Showcase Fundraiser presented by the MELBA Foundation
DESCRIPTION:The MELBA Foundation is a non profit 501c3 organization that offers free music education\, instruments and school supplies to students in underserved and marginalized communities. \n  \nFeaturing: \n  \n \nMcd00dle is a multi-instrumentalist specializing in saxophone\, as well as other instruments including ukulele\, ocarina\, recorder\, and many more. When mcd00dle first turned on her Twitch stream at the onset of the pandemic in 2020\, she had zero expectations other than a way to hold herself accountable for practicing saxophone. However\, viewers soon trickled in\, and before she knew it\, she found herself a partnered streamer with a loyal fanbase\, as she became known for her versatile musicianship and engaging personality. Now\, years later\, you can still find her enjoying her new passion of streaming five nights a week on Twitch\, or perhaps you might catch her latest ocarina song on TikTok.\ntwitch: https://www.twitch.tv/mcd00dle \n  \n  \n  \n  \n \nBorn in Romania and raised in the US\, Julie Clark is a classically-trained pianist and composer of over 26 years. Her compositions bring together modern melodies with classical and semiclassical progressions\, and she released her debut piano album\, Dreamer\, in 2024. Julie has allowed fans and listeners to join her in her writing journey by livestreaming the process to her worldwide audience on Twitch.tv\, where she composes piano music live\, giving a more intimate view of her musical process.\nSpotify \n  \n  \n  \n  \n \nHeavenly Reyna is a multi-lingual singer\, songwriter\, and actress. Having grown up traveling around the world before settling in LA\, she has lived many lives. She has carved out a path streaming music full time on Twitch whilst pursuing acting\, finding her two worlds colliding more often than not\, recently having had a film release where she plays a singer/songwriter\, called The Greatest Ever\, and previously playing “Blake” in Film At A Deadly Cost\, which features 5 of her original songs.\nhttps://twitch.tv/heavenly \n  \n  \n  \n  \n \nHailing from Los Angeles\, Carmela produces a colloquial and vulnerable brand of indie rock—balancing rock\, soul\, pop punk\, and folk with a pop sensibility. She creates “fiercely cathartic music that demands to be heard live” (Grimy Goods). Pioneering the world of online musical performances\, Carmela hosts a live show three times a week to a worldwide audience on Twitch. Her “powerhouse vocals and energetic demeanor make her stand out as a rising star in the music industry” (Find Your Sounds UK). \nSPOTIFY \n  \n  \n  \n \nMissy Alcazar is a multi-instrumentalist\, vocalist\, composer\, and dueling pianist with a wide-ranging background in live performance and music direction. A graduate of California Institute of the Arts (BFA\, MFA)\, she brings a strong foundation in piano\, vocals\, songwriting\, and improvisation to every stage she plays. \nShe has performed as a dueling pianist at well-known venues including Disneyland’s Showdown at the Golden Horseshoe and The Shout House in San Diego\, where she appeared on stage regularly in high-energy\, audience-driven shows. Her experience also includes work as a music director\, composer\, and accompanist for theatrical productions at The Old Globe Theatre\, as well as featured performances with the San Diego Symphony. \nMelissa’s performances blend technical musicianship with crowd interaction and versatility\, spanning piano\, vocals\, guitar\, bass\, drums\, and original music \nSPOTIFY \n  \n  \n  \nAll proceeds go towards The MELBA Foundation cause
URL:https://new.hotelcafe.com/event/one-last-song-hotel-cafe-farewell-showcase-fundraiser-presented-by-the-melba-foundation/
LOCATION:Hotel Cafe\, 1623 N Cahuenga Blvd\, Los Angeles\, 90028\, United States
CATEGORIES:Just Announced,Second Stage
ATTACH;FMTTYPE=image/png:https://new.hotelcafe.com/wp-content/uploads/2026/01/Last-Song-800x556-1.png
END:VEVENT
END:VCALENDAR